BEGIN:VCALENDAR
VERSION:2.0
PRODID:-//Internos Wine Bar - ECPv6.15.20//NONSGML v1.0//EN
CALSCALE:GREGORIAN
METHOD:PUBLISH
X-WR-CALNAME:Internos Wine Bar
X-ORIGINAL-URL:http://internoswinebar.com
X-WR-CALDESC:Events for Internos Wine Bar
REFRESH-INTERVAL;VALUE=DURATION:PT1H
X-Robots-Tag:noindex
X-PUBLISHED-TTL:PT1H
BEGIN:VTIMEZONE
TZID:UTC
BEGIN:STANDARD
TZOFFSETFROM:+0000
TZOFFSETTO:+0000
TZNAME:UTC
DTSTART:20220101T000000
END:STANDARD
END:VTIMEZONE
BEGIN:VEVENT
DTSTART;TZID=UTC:20231110T130000
DTEND;TZID=UTC:20231110T190000
DTSTAMP:20260419T100404
CREATED:20230929T200001Z
LAST-MODIFIED:20231110T000824Z
UID:10000005-1699621200-1699642800@internoswinebar.com
SUMMARY:Pizzalina Pizza Pop Up
DESCRIPTION:Pizzalina Pizza Pop-Up @ Internos Wine & Craft Beer Bar!   \nJoin us for a fun-filled Saturday at Internos and make weekend lunch easier to conjure up. \nChef Baker of Pizzalina serves his Detroit style pizza.  These feature organic Central Milling flour\, 3 day cold ferment\, crispy cheese skirt\,  Wisconsin brick\, mozzarella & white cheddar cheeses. \nWhole Pie 10×14 for $36 or $8 per slice \n**Order Whole Pies ahead through our website www.internoswinebar.com.  \nPlace orders up to Friday\, November 10 at 12:00pm \nOptions: \nThe CBR: \n\nsous vide chicken breast\,\nZoe’s applewood bacon\,\nred onion\n& house made Ranch\n\nThe PORKY PEAR:  \n\nbeer-braised pork belly\,\nonion caramel\,\nmustard greens\n& pickled asian pears\n maitake mushrooms\,\nDorati tomatoes\,\nsauteed spinach\,\nroasted garlic sauce\,\ntruffle oil\n\nCome and indulge in delicious Pizzalina Pizza with your friends @ Internos Wine Bar. Pizza service begins @ 1pm. \n\n  \n \nBring a Pumpkin and Carving Tools!
URL:http://internoswinebar.com/calendar/halloween-party-pumpkin-carving-party/
LOCATION:Internos Wine Bar\, 1110 Magnolia Avenue\, Larkspur\, CA\, United States
CATEGORIES:Holiday Celebration
ATTACH;FMTTYPE=image/png:http://internoswinebar.com/wp-content/uploads/2023/09/Screenshot-2023-10-13-10.54.46-AM.png
ORGANIZER;CN="Internos Events":MAILTO:info@internoswinebar.com
END:VEVENT
BEGIN:VEVENT
DTSTART;TZID=UTC:20231001T130000
DTEND;TZID=UTC:20231001T200000
DTSTAMP:20260419T100404
CREATED:20230914T005923Z
LAST-MODIFIED:20231001T091837Z
UID:10000004-1696165200-1696190400@internoswinebar.com
SUMMARY:Oktoberfest @ Internos Wine Bar
DESCRIPTION:Oktoberfest Beer\, Grilled Brats & Sausages\, Sauerkraut\, Pretzels\, Mustard and Accordion Music!\nFeaturing on Tap for $6\n\nPaulaner Oktoberfest Bier\nAltamont Festbier\nOther Brother Marzen Lager\nReisdorf Kolsch\nTemescal Oktoberfest Festbier (16oz can)\n\n\nOur Oktoberfest Menu – Plates $24\n\nGrilled Bratwurst & Chicken Apple Sausage\nSauerkraut\Red Cabbage and Carrots with Caraway\nGerman Potato Salad (Bacon optional)\nCucumber Salad\n\n++ $9 Freshly Baked Pretzels with Beer Cheese Sauce (and Mustard!)
URL:http://internoswinebar.com/calendar/octoberfest-internos-wine-bar/
LOCATION:CA
CATEGORIES:Food Specials,Holiday Celebration
ATTACH;FMTTYPE=image/jpeg:http://internoswinebar.com/wp-content/uploads/2023/09/marching-band-501685_1280.jpg
ORGANIZER;CN="Tony Martinez":MAILTO:info@internoswinebar.com
END:VEVENT
END:VCALENDAR